BEGIN:VCALENDAR
VERSION:2.0
PRODID:-//MutualArt.com/MutualArt ICS//EN
CALSCALE:GREGORIAN
METHOD:PUBLISH
BEGIN:VEVENT
DTSTART:20260306
DTEND:20260608
TRANSP:TRANSPARENT
SUMMARY:Donna Gottschalk & Hélène Giannecchini: We Others | Exhibition Reminder by MutualArt
DESCRIPTION:Donna Gottschalk & Hélène Giannecchini: We Others at The Photographers' Gallery. View exhibition details at MutualArt.com: https://www.mutualart.com/Exhibition/Donna-Gottschalk---Helene-Giannecchini--/1168D4C22F0E71E1?utm_source=mutualart&utm_medium=link&utm_campaign=save-to-calendar&utm_content=exhibition
X-ALT-DESC;FMTTYPE=text/html:<!DOCTYPE HTML PUBLIC "-//W3C//DTD HTML 3.2//EN">\n<HTML>\n<HEAD>\n<TITLE></TITLE>\n</HEAD>\n<BODY>\n<P DIR=LTR><SPAN LANG="en-us"></SPAN><B>Donna Gottschalk & Hélène Giannecchini: We Others at The Photographers' Gallery. </B><A HREF="https://www.mutualart.com/Exhibition/Donna-Gottschalk---Helene-Giannecchini--/1168D4C22F0E71E1?utm_source=mutualart&utm_medium=link&utm_campaign=save-to-calendar&utm_content=exhibition"><SPAN LANG="en-us"><U><FONT COLOR="#0000FF" FACE="Calibri">View exhibition details at MutualArt.com</FONT></U></SPAN></A></P>\n\n</BODY>\n</HTML>
URL;VALUE=URI:https://www.mutualart.com/Exhibition/Donna-Gottschalk---Helene-Giannecchini--/1168D4C22F0E71E1
UID:https://www.mutualart.com/Exhibition/Donna-Gottschalk---Helene-Giannecchini--/1168D4C22F0E71E1
CATEGORIES:
LOCATION;ALTREP="https://www.mutualart.com/Exhibition/Donna-Gottschalk---Helene-Giannecchini--/1168D4C22F0E71E1":The Photographers' Gallery @ 16 - 18 Ramillies Street\, Soho\, London\, UK
END:VEVENT
END:VCALENDAR
