BEGIN:VCALENDAR
VERSION:2.0
PRODID:-//MutualArt.com/MutualArt ICS//EN
CALSCALE:GREGORIAN
METHOD:PUBLISH
BEGIN:VEVENT
DTSTART:20260422
DTEND:20260601
TRANSP:TRANSPARENT
SUMMARY:Katharina Grosse: I Set Out\, I Walked Fast | Exhibition Reminder by MutualArt
DESCRIPTION:Katharina Grosse: I Set Out\, I Walked Fast at White Cube\, London (Bermondsey Street). View exhibition details at MutualArt.com: https://www.mutualart.com/Exhibition/Katharina-Grosse--I-Set-Out--I-Walked-Fa/1B102CC17B965EAF?utm_source=mutualart&utm_medium=link&utm_campaign=save-to-calendar&utm_content=exhibition
X-ALT-DESC;FMTTYPE=text/html:<!DOCTYPE HTML PUBLIC "-//W3C//DTD HTML 3.2//EN">\n<HTML>\n<HEAD>\n<TITLE></TITLE>\n</HEAD>\n<BODY>\n<P DIR=LTR><SPAN LANG="en-us"></SPAN><B>Katharina Grosse: I Set Out, I Walked Fast at White Cube, London (Bermondsey Street). </B><A HREF="https://www.mutualart.com/Exhibition/Katharina-Grosse--I-Set-Out--I-Walked-Fa/1B102CC17B965EAF?utm_source=mutualart&utm_medium=link&utm_campaign=save-to-calendar&utm_content=exhibition"><SPAN LANG="en-us"><U><FONT COLOR="#0000FF" FACE="Calibri">View exhibition details at MutualArt.com</FONT></U></SPAN></A></P>\n\n</BODY>\n</HTML>
URL;VALUE=URI:https://www.mutualart.com/Exhibition/Katharina-Grosse--I-Set-Out--I-Walked-Fa/1B102CC17B965EAF
UID:https://www.mutualart.com/Exhibition/Katharina-Grosse--I-Set-Out--I-Walked-Fa/1B102CC17B965EAF
CATEGORIES:
LOCATION;ALTREP="https://www.mutualart.com/Exhibition/Katharina-Grosse--I-Set-Out--I-Walked-Fa/1B102CC17B965EAF":White Cube\, London (Bermondsey Street) @ Bermondsey Street 144-152 \, London\, UK
END:VEVENT
END:VCALENDAR
