BEGIN:VCALENDAR
VERSION:2.0
PRODID:-//MutualArt.com/MutualArt ICS//EN
CALSCALE:GREGORIAN
METHOD:PUBLISH
BEGIN:VEVENT
DTSTART:20260321
DTEND:20260720
TRANSP:TRANSPARENT
SUMMARY:South West Biennial 2026: Tracework | Exhibition Reminder by MutualArt
DESCRIPTION:South West Biennial 2026: Tracework at Bunbury Regional Art Gallery. View exhibition details at MutualArt.com: https://www.mutualart.com/Exhibition/South-West-Biennial-2026--Tracework/1EF13D3AF284FA43?utm_source=mutualart&utm_medium=link&utm_campaign=save-to-calendar&utm_content=exhibition
X-ALT-DESC;FMTTYPE=text/html:<!DOCTYPE HTML PUBLIC "-//W3C//DTD HTML 3.2//EN">\n<HTML>\n<HEAD>\n<TITLE></TITLE>\n</HEAD>\n<BODY>\n<P DIR=LTR><SPAN LANG="en-us"></SPAN><B>South West Biennial 2026: Tracework at Bunbury Regional Art Gallery. </B><A HREF="https://www.mutualart.com/Exhibition/South-West-Biennial-2026--Tracework/1EF13D3AF284FA43?utm_source=mutualart&utm_medium=link&utm_campaign=save-to-calendar&utm_content=exhibition"><SPAN LANG="en-us"><U><FONT COLOR="#0000FF" FACE="Calibri">View exhibition details at MutualArt.com</FONT></U></SPAN></A></P>\n\n</BODY>\n</HTML>
URL;VALUE=URI:https://www.mutualart.com/Exhibition/South-West-Biennial-2026--Tracework/1EF13D3AF284FA43
UID:https://www.mutualart.com/Exhibition/South-West-Biennial-2026--Tracework/1EF13D3AF284FA43
CATEGORIES:
LOCATION;ALTREP="https://www.mutualart.com/Exhibition/South-West-Biennial-2026--Tracework/1EF13D3AF284FA43":Bunbury Regional Art Gallery @ 64 Wittenoom Street\, Bunbury\, Australia
END:VEVENT
END:VCALENDAR
