BEGIN:VCALENDAR
VERSION:2.0
PRODID:-//MutualArt.com/MutualArt ICS//EN
CALSCALE:GREGORIAN
METHOD:PUBLISH
BEGIN:VEVENT
DTSTART:20260424
DTEND:20260607
TRANSP:TRANSPARENT
SUMMARY:Eric Mack: Silent Melodies | Exhibition Reminder by MutualArt
DESCRIPTION:Eric Mack: Silent Melodies at Whitespace. View exhibition details at MutualArt.com: https://www.mutualart.com/Exhibition/Eric-Mack--Silent-Melodies/21D6E302886515FF?utm_source=mutualart&utm_medium=link&utm_campaign=save-to-calendar&utm_content=exhibition
X-ALT-DESC;FMTTYPE=text/html:<!DOCTYPE HTML PUBLIC "-//W3C//DTD HTML 3.2//EN">\n<HTML>\n<HEAD>\n<TITLE></TITLE>\n</HEAD>\n<BODY>\n<P DIR=LTR><SPAN LANG="en-us"></SPAN><B>Eric Mack: Silent Melodies at Whitespace. </B><A HREF="https://www.mutualart.com/Exhibition/Eric-Mack--Silent-Melodies/21D6E302886515FF?utm_source=mutualart&utm_medium=link&utm_campaign=save-to-calendar&utm_content=exhibition"><SPAN LANG="en-us"><U><FONT COLOR="#0000FF" FACE="Calibri">View exhibition details at MutualArt.com</FONT></U></SPAN></A></P>\n\n</BODY>\n</HTML>
URL;VALUE=URI:https://www.mutualart.com/Exhibition/Eric-Mack--Silent-Melodies/21D6E302886515FF
UID:https://www.mutualart.com/Exhibition/Eric-Mack--Silent-Melodies/21D6E302886515FF
CATEGORIES:
LOCATION;ALTREP="https://www.mutualart.com/Exhibition/Eric-Mack--Silent-Melodies/21D6E302886515FF":Whitespace @ 814 Edgewood Avenue NE\, Atlanta\, GA\, USA
END:VEVENT
END:VCALENDAR
