BEGIN:VCALENDAR
VERSION:2.0
PRODID:-//MutualArt.com/MutualArt ICS//EN
CALSCALE:GREGORIAN
METHOD:PUBLISH
BEGIN:VEVENT
DTSTART:20260418
DTEND:20260607
TRANSP:TRANSPARENT
SUMMARY:Tatiana Gorgievski: PB Project: Un Corps qui Tient | Exhibition Reminder by MutualArt
DESCRIPTION:Tatiana Gorgievski: PB Project: Un Corps qui Tient at PARIS-B. View exhibition details at MutualArt.com: https://www.mutualart.com/Exhibition/Tatiana-Gorgievski--PB-Project--Un-Corps/3190E987B8EEF101?utm_source=mutualart&utm_medium=link&utm_campaign=save-to-calendar&utm_content=exhibition
X-ALT-DESC;FMTTYPE=text/html:<!DOCTYPE HTML PUBLIC "-//W3C//DTD HTML 3.2//EN">\n<HTML>\n<HEAD>\n<TITLE></TITLE>\n</HEAD>\n<BODY>\n<P DIR=LTR><SPAN LANG="en-us"></SPAN><B>Tatiana Gorgievski: PB Project: Un Corps qui Tient at PARIS-B. </B><A HREF="https://www.mutualart.com/Exhibition/Tatiana-Gorgievski--PB-Project--Un-Corps/3190E987B8EEF101?utm_source=mutualart&utm_medium=link&utm_campaign=save-to-calendar&utm_content=exhibition"><SPAN LANG="en-us"><U><FONT COLOR="#0000FF" FACE="Calibri">View exhibition details at MutualArt.com</FONT></U></SPAN></A></P>\n\n</BODY>\n</HTML>
URL;VALUE=URI:https://www.mutualart.com/Exhibition/Tatiana-Gorgievski--PB-Project--Un-Corps/3190E987B8EEF101
UID:https://www.mutualart.com/Exhibition/Tatiana-Gorgievski--PB-Project--Un-Corps/3190E987B8EEF101
CATEGORIES:
LOCATION;ALTREP="https://www.mutualart.com/Exhibition/Tatiana-Gorgievski--PB-Project--Un-Corps/3190E987B8EEF101":PARIS-B @ 62 Rue de Turbigo\, Paris\, France
END:VEVENT
END:VCALENDAR
