BEGIN:VCALENDAR
VERSION:2.0
PRODID:-//MutualArt.com/MutualArt ICS//EN
CALSCALE:GREGORIAN
METHOD:PUBLISH
BEGIN:VEVENT
DTSTART:20260418
DTEND:20260727
TRANSP:TRANSPARENT
SUMMARY:Of the Hills: Pahari Paintings from India’s Himalayan Kingdoms | Exhibition Reminder by MutualArt
DESCRIPTION:Of the Hills: Pahari Paintings from India’s Himalayan Kingdoms at Smithsonian’s National Museum of Asian Art. View exhibition details at MutualArt.com: https://www.mutualart.com/Exhibition/Of-the-Hills--Pahari-Paintings-from-Indi/52AFF916134BBDDC?utm_source=mutualart&utm_medium=link&utm_campaign=save-to-calendar&utm_content=exhibition
X-ALT-DESC;FMTTYPE=text/html:<!DOCTYPE HTML PUBLIC "-//W3C//DTD HTML 3.2//EN">\n<HTML>\n<HEAD>\n<TITLE></TITLE>\n</HEAD>\n<BODY>\n<P DIR=LTR><SPAN LANG="en-us"></SPAN><B>Of the Hills: Pahari Paintings from India’s Himalayan Kingdoms at Smithsonian’s National Museum of Asian Art. </B><A HREF="https://www.mutualart.com/Exhibition/Of-the-Hills--Pahari-Paintings-from-Indi/52AFF916134BBDDC?utm_source=mutualart&utm_medium=link&utm_campaign=save-to-calendar&utm_content=exhibition"><SPAN LANG="en-us"><U><FONT COLOR="#0000FF" FACE="Calibri">View exhibition details at MutualArt.com</FONT></U></SPAN></A></P>\n\n</BODY>\n</HTML>
URL;VALUE=URI:https://www.mutualart.com/Exhibition/Of-the-Hills--Pahari-Paintings-from-Indi/52AFF916134BBDDC
UID:https://www.mutualart.com/Exhibition/Of-the-Hills--Pahari-Paintings-from-Indi/52AFF916134BBDDC
CATEGORIES:
LOCATION;ALTREP="https://www.mutualart.com/Exhibition/Of-the-Hills--Pahari-Paintings-from-Indi/52AFF916134BBDDC":Smithsonian’s National Museum of Asian Art @ 1050 Independence Ave. SW\, National Mall - Washington D.C.\, DC\, USA
END:VEVENT
END:VCALENDAR
