BEGIN:VCALENDAR
VERSION:2.0
PRODID:-//MutualArt.com/MutualArt ICS//EN
CALSCALE:GREGORIAN
METHOD:PUBLISH
BEGIN:VEVENT
DTSTART:20260218
DTEND:20260615
TRANSP:TRANSPARENT
SUMMARY:Bouchra Khalili: Circles and Storytellers | Exhibition Reminder by MutualArt
DESCRIPTION:Bouchra Khalili: Circles and Storytellers at The Mosaic Rooms. View exhibition details at MutualArt.com: https://www.mutualart.com/Exhibition/Bouchra-Khalili--Circles-and-Storyteller/9D3B9E3F61B941D2?utm_source=mutualart&utm_medium=link&utm_campaign=save-to-calendar&utm_content=exhibition
X-ALT-DESC;FMTTYPE=text/html:<!DOCTYPE HTML PUBLIC "-//W3C//DTD HTML 3.2//EN">\n<HTML>\n<HEAD>\n<TITLE></TITLE>\n</HEAD>\n<BODY>\n<P DIR=LTR><SPAN LANG="en-us"></SPAN><B>Bouchra Khalili: Circles and Storytellers at The Mosaic Rooms. </B><A HREF="https://www.mutualart.com/Exhibition/Bouchra-Khalili--Circles-and-Storyteller/9D3B9E3F61B941D2?utm_source=mutualart&utm_medium=link&utm_campaign=save-to-calendar&utm_content=exhibition"><SPAN LANG="en-us"><U><FONT COLOR="#0000FF" FACE="Calibri">View exhibition details at MutualArt.com</FONT></U></SPAN></A></P>\n\n</BODY>\n</HTML>
URL;VALUE=URI:https://www.mutualart.com/Exhibition/Bouchra-Khalili--Circles-and-Storyteller/9D3B9E3F61B941D2
UID:https://www.mutualart.com/Exhibition/Bouchra-Khalili--Circles-and-Storyteller/9D3B9E3F61B941D2
CATEGORIES:
LOCATION;ALTREP="https://www.mutualart.com/Exhibition/Bouchra-Khalili--Circles-and-Storyteller/9D3B9E3F61B941D2":The Mosaic Rooms @ Tower House: 226 Cromwell Road\, Kensington - London\, UK
END:VEVENT
END:VCALENDAR
