BEGIN:VCALENDAR
VERSION:2.0
PRODID:-//MutualArt.com/MutualArt ICS//EN
CALSCALE:GREGORIAN
METHOD:PUBLISH
BEGIN:VEVENT
DTSTART:20260401
DTEND:20270101
TRANSP:TRANSPARENT
SUMMARY:Nam June Paik. Earth\, Moon\, Sun | Exhibition Reminder by MutualArt
DESCRIPTION:Nam June Paik. Earth\, Moon\, Sun at Ludwig Forum Aachen. View exhibition details at MutualArt.com: https://www.mutualart.com/Exhibition/Nam-June-Paik--Earth--Moon--Sun/B0625F090BB2C665?utm_source=mutualart&utm_medium=link&utm_campaign=save-to-calendar&utm_content=exhibition
X-ALT-DESC;FMTTYPE=text/html:<!DOCTYPE HTML PUBLIC "-//W3C//DTD HTML 3.2//EN">\n<HTML>\n<HEAD>\n<TITLE></TITLE>\n</HEAD>\n<BODY>\n<P DIR=LTR><SPAN LANG="en-us"></SPAN><B>Nam June Paik. Earth, Moon, Sun at Ludwig Forum Aachen. </B><A HREF="https://www.mutualart.com/Exhibition/Nam-June-Paik--Earth--Moon--Sun/B0625F090BB2C665?utm_source=mutualart&utm_medium=link&utm_campaign=save-to-calendar&utm_content=exhibition"><SPAN LANG="en-us"><U><FONT COLOR="#0000FF" FACE="Calibri">View exhibition details at MutualArt.com</FONT></U></SPAN></A></P>\n\n</BODY>\n</HTML>
URL;VALUE=URI:https://www.mutualart.com/Exhibition/Nam-June-Paik--Earth--Moon--Sun/B0625F090BB2C665
UID:https://www.mutualart.com/Exhibition/Nam-June-Paik--Earth--Moon--Sun/B0625F090BB2C665
CATEGORIES:
LOCATION;ALTREP="https://www.mutualart.com/Exhibition/Nam-June-Paik--Earth--Moon--Sun/B0625F090BB2C665":Ludwig Forum Aachen @ Jülicher Straße 97–109\, Aachen\, Germany
END:VEVENT
END:VCALENDAR
