BEGIN:VCALENDAR
VERSION:2.0
PRODID:-//MutualArt.com/MutualArt ICS//EN
CALSCALE:GREGORIAN
METHOD:PUBLISH
BEGIN:VEVENT
DTSTART:20250412
DTEND:20260427
TRANSP:TRANSPARENT
SUMMARY:Reasons to Gather: Japanese Tea Practice Unwrapped | Exhibition Reminder by MutualArt
DESCRIPTION:Reasons to Gather: Japanese Tea Practice Unwrapped at Smithsonian’s National Museum of Asian Art. View exhibition details at MutualArt.com: https://www.mutualart.com/Exhibition/Reasons-to-Gather--Japanese-Tea-Practice/B57BF0E5F0BE5E97?utm_source=mutualart&utm_medium=link&utm_campaign=save-to-calendar&utm_content=exhibition
X-ALT-DESC;FMTTYPE=text/html:<!DOCTYPE HTML PUBLIC "-//W3C//DTD HTML 3.2//EN">\n<HTML>\n<HEAD>\n<TITLE></TITLE>\n</HEAD>\n<BODY>\n<P DIR=LTR><SPAN LANG="en-us"></SPAN><B>Reasons to Gather: Japanese Tea Practice Unwrapped at Smithsonian’s National Museum of Asian Art. </B><A HREF="https://www.mutualart.com/Exhibition/Reasons-to-Gather--Japanese-Tea-Practice/B57BF0E5F0BE5E97?utm_source=mutualart&utm_medium=link&utm_campaign=save-to-calendar&utm_content=exhibition"><SPAN LANG="en-us"><U><FONT COLOR="#0000FF" FACE="Calibri">View exhibition details at MutualArt.com</FONT></U></SPAN></A></P>\n\n</BODY>\n</HTML>
URL;VALUE=URI:https://www.mutualart.com/Exhibition/Reasons-to-Gather--Japanese-Tea-Practice/B57BF0E5F0BE5E97
UID:https://www.mutualart.com/Exhibition/Reasons-to-Gather--Japanese-Tea-Practice/B57BF0E5F0BE5E97
CATEGORIES:
LOCATION;ALTREP="https://www.mutualart.com/Exhibition/Reasons-to-Gather--Japanese-Tea-Practice/B57BF0E5F0BE5E97":Smithsonian’s National Museum of Asian Art @ 1050 Independence Ave. SW\, National Mall - Washington D.C.\, DC\, USA
END:VEVENT
END:VCALENDAR
