BEGIN:VCALENDAR
VERSION:2.0
PRODID:-//MutualArt.com/MutualArt ICS//EN
CALSCALE:GREGORIAN
METHOD:PUBLISH
BEGIN:VEVENT
DTSTART:20260328
DTEND:20270301
TRANSP:TRANSPARENT
SUMMARY:Seven Decades of Contemporary Art: Norfolk Contemporary Art Society at Norwich Castle | Exhibition Reminder by MutualArt
DESCRIPTION:Seven Decades of Contemporary Art: Norfolk Contemporary Art Society at Norwich Castle at Norwich Castle Museum & Art Gallery. View exhibition details at MutualArt.com: https://www.mutualart.com/Exhibition/Seven-Decades-of-Contemporary-Art--Norfo/B5C60F38E746758E?utm_source=mutualart&utm_medium=link&utm_campaign=save-to-calendar&utm_content=exhibition
X-ALT-DESC;FMTTYPE=text/html:<!DOCTYPE HTML PUBLIC "-//W3C//DTD HTML 3.2//EN">\n<HTML>\n<HEAD>\n<TITLE></TITLE>\n</HEAD>\n<BODY>\n<P DIR=LTR><SPAN LANG="en-us"></SPAN><B>Seven Decades of Contemporary Art: Norfolk Contemporary Art Society at Norwich Castle at Norwich Castle Museum & Art Gallery. </B><A HREF="https://www.mutualart.com/Exhibition/Seven-Decades-of-Contemporary-Art--Norfo/B5C60F38E746758E?utm_source=mutualart&utm_medium=link&utm_campaign=save-to-calendar&utm_content=exhibition"><SPAN LANG="en-us"><U><FONT COLOR="#0000FF" FACE="Calibri">View exhibition details at MutualArt.com</FONT></U></SPAN></A></P>\n\n</BODY>\n</HTML>
URL;VALUE=URI:https://www.mutualart.com/Exhibition/Seven-Decades-of-Contemporary-Art--Norfo/B5C60F38E746758E
UID:https://www.mutualart.com/Exhibition/Seven-Decades-of-Contemporary-Art--Norfo/B5C60F38E746758E
CATEGORIES:
LOCATION;ALTREP="https://www.mutualart.com/Exhibition/Seven-Decades-of-Contemporary-Art--Norfo/B5C60F38E746758E":Norwich Castle Museum & Art Gallery @ Castle Hill\, Norwich\, UK
END:VEVENT
END:VCALENDAR
