BEGIN:VCALENDAR
VERSION:2.0
PRODID:-//MutualArt.com/MutualArt ICS//EN
CALSCALE:GREGORIAN
METHOD:PUBLISH
BEGIN:VEVENT
DTSTART:20260424
DTEND:20260607
TRANSP:TRANSPARENT
SUMMARY:Claire Kinzle: Living Archive | Exhibition Reminder by MutualArt
DESCRIPTION:Claire Kinzle: Living Archive at Whitespace. View exhibition details at MutualArt.com: https://www.mutualart.com/Exhibition/Claire-Kinzle--Living-Archive/DC2B80F9E6D40826?utm_source=mutualart&utm_medium=link&utm_campaign=save-to-calendar&utm_content=exhibition
X-ALT-DESC;FMTTYPE=text/html:<!DOCTYPE HTML PUBLIC "-//W3C//DTD HTML 3.2//EN">\n<HTML>\n<HEAD>\n<TITLE></TITLE>\n</HEAD>\n<BODY>\n<P DIR=LTR><SPAN LANG="en-us"></SPAN><B>Claire Kinzle: Living Archive at Whitespace. </B><A HREF="https://www.mutualart.com/Exhibition/Claire-Kinzle--Living-Archive/DC2B80F9E6D40826?utm_source=mutualart&utm_medium=link&utm_campaign=save-to-calendar&utm_content=exhibition"><SPAN LANG="en-us"><U><FONT COLOR="#0000FF" FACE="Calibri">View exhibition details at MutualArt.com</FONT></U></SPAN></A></P>\n\n</BODY>\n</HTML>
URL;VALUE=URI:https://www.mutualart.com/Exhibition/Claire-Kinzle--Living-Archive/DC2B80F9E6D40826
UID:https://www.mutualart.com/Exhibition/Claire-Kinzle--Living-Archive/DC2B80F9E6D40826
CATEGORIES:
LOCATION;ALTREP="https://www.mutualart.com/Exhibition/Claire-Kinzle--Living-Archive/DC2B80F9E6D40826":Whitespace @ 814 Edgewood Avenue NE\, Atlanta\, GA\, USA
END:VEVENT
END:VCALENDAR
