BEGIN:VCALENDAR
VERSION:2.0
PRODID:-//MutualArt.com/MutualArt ICS//EN
CALSCALE:GREGORIAN
METHOD:PUBLISH
BEGIN:VEVENT
DTSTART:20260328
DTEND:20260928
TRANSP:TRANSPARENT
SUMMARY:Recognition of Art by Women: In Retrospect | Exhibition Reminder by MutualArt
DESCRIPTION:Recognition of Art by Women: In Retrospect at Norton Museum of Art. View exhibition details at MutualArt.com: https://www.mutualart.com/Exhibition/Recognition-of-Art-by-Women--In-Retrospe/F3728DE3C30AE5A4?utm_source=mutualart&utm_medium=link&utm_campaign=save-to-calendar&utm_content=exhibition
X-ALT-DESC;FMTTYPE=text/html:<!DOCTYPE HTML PUBLIC "-//W3C//DTD HTML 3.2//EN">\n<HTML>\n<HEAD>\n<TITLE></TITLE>\n</HEAD>\n<BODY>\n<P DIR=LTR><SPAN LANG="en-us"></SPAN><B>Recognition of Art by Women: In Retrospect at Norton Museum of Art. </B><A HREF="https://www.mutualart.com/Exhibition/Recognition-of-Art-by-Women--In-Retrospe/F3728DE3C30AE5A4?utm_source=mutualart&utm_medium=link&utm_campaign=save-to-calendar&utm_content=exhibition"><SPAN LANG="en-us"><U><FONT COLOR="#0000FF" FACE="Calibri">View exhibition details at MutualArt.com</FONT></U></SPAN></A></P>\n\n</BODY>\n</HTML>
URL;VALUE=URI:https://www.mutualart.com/Exhibition/Recognition-of-Art-by-Women--In-Retrospe/F3728DE3C30AE5A4
UID:https://www.mutualart.com/Exhibition/Recognition-of-Art-by-Women--In-Retrospe/F3728DE3C30AE5A4
CATEGORIES:
LOCATION;ALTREP="https://www.mutualart.com/Exhibition/Recognition-of-Art-by-Women--In-Retrospe/F3728DE3C30AE5A4":Norton Museum of Art @ 1451 South Olive Avenue\, West Palm Beach\, FL\, USA
END:VEVENT
END:VCALENDAR
